BEGIN:VCALENDAR
VERSION:2.0
PRODID:-//Technology Designer - ECPv6.15.20//NONSGML v1.0//EN
CALSCALE:GREGORIAN
METHOD:PUBLISH
X-ORIGINAL-URL:https://www.technologydesigner.com
X-WR-CALDESC:Events for Technology Designer
REFRESH-INTERVAL;VALUE=DURATION:PT1H
X-Robots-Tag:noindex
X-PUBLISHED-TTL:PT1H
BEGIN:VTIMEZONE
TZID:America/New_York
BEGIN:DAYLIGHT
TZOFFSETFROM:-0500
TZOFFSETTO:-0400
TZNAME:EDT
DTSTART:20250309T070000
END:DAYLIGHT
BEGIN:STANDARD
TZOFFSETFROM:-0400
TZOFFSETTO:-0500
TZNAME:EST
DTSTART:20251102T060000
END:STANDARD
BEGIN:DAYLIGHT
TZOFFSETFROM:-0500
TZOFFSETTO:-0400
TZNAME:EDT
DTSTART:20260308T070000
END:DAYLIGHT
BEGIN:STANDARD
TZOFFSETFROM:-0400
TZOFFSETTO:-0500
TZNAME:EST
DTSTART:20261101T060000
END:STANDARD
BEGIN:DAYLIGHT
TZOFFSETFROM:-0500
TZOFFSETTO:-0400
TZNAME:EDT
DTSTART:20270314T070000
END:DAYLIGHT
BEGIN:STANDARD
TZOFFSETFROM:-0400
TZOFFSETTO:-0500
TZNAME:EST
DTSTART:20271107T060000
END:STANDARD
END:VTIMEZONE
BEGIN:VEVENT
DTSTART;VALUE=DATE:20260914
DTEND;VALUE=DATE:20260917
DTSTAMP:20260424T212740
CREATED:20260422T040822Z
LAST-MODIFIED:20260422T040822Z
UID:30569-1789344000-1789603199@www.technologydesigner.com
SUMMARY:Global Security Exchange
DESCRIPTION:When threats strike from every angle\, resilience demands more than vigilance\, you need a 360° security strategy. At Global Security Exchange (GSX)\, powered by ASIS International\, you’ll discover how to anticipate\, assess\, and mitigate risks with no gaps\, blind spots\, or vulnerabilities\, just a seamless framework to keep your organization agile and strong.
URL:https://www.technologydesigner.com/event/global-security-exchange/
LOCATION:Georgia World Congress Center (GWCC)\, 285 Andrew Young International Blvd NW\, Atlanta\, GA\, 30313\, United States
CATEGORIES:Technology Design
ATTACH;FMTTYPE=image/webp:https://www.technologydesigner.com/wp-content/uploads/2026/04/Gsx_2026.webp
END:VEVENT
END:VCALENDAR