BEGIN:VCALENDAR
VERSION:2.0
PRODID:-//Technology Designer - ECPv6.15.20//NONSGML v1.0//EN
CALSCALE:GREGORIAN
METHOD:PUBLISH
X-WR-CALNAME:Technology Designer
X-ORIGINAL-URL:https://www.technologydesigner.com
X-WR-CALDESC:Events for Technology Designer
REFRESH-INTERVAL;VALUE=DURATION:PT1H
X-Robots-Tag:noindex
X-PUBLISHED-TTL:PT1H
BEGIN:VTIMEZONE
TZID:America/New_York
BEGIN:DAYLIGHT
TZOFFSETFROM:-0500
TZOFFSETTO:-0400
TZNAME:EDT
DTSTART:20250309T070000
END:DAYLIGHT
BEGIN:STANDARD
TZOFFSETFROM:-0400
TZOFFSETTO:-0500
TZNAME:EST
DTSTART:20251102T060000
END:STANDARD
BEGIN:DAYLIGHT
TZOFFSETFROM:-0500
TZOFFSETTO:-0400
TZNAME:EDT
DTSTART:20260308T070000
END:DAYLIGHT
BEGIN:STANDARD
TZOFFSETFROM:-0400
TZOFFSETTO:-0500
TZNAME:EST
DTSTART:20261101T060000
END:STANDARD
BEGIN:DAYLIGHT
TZOFFSETFROM:-0500
TZOFFSETTO:-0400
TZNAME:EDT
DTSTART:20270314T070000
END:DAYLIGHT
BEGIN:STANDARD
TZOFFSETFROM:-0400
TZOFFSETTO:-0500
TZNAME:EST
DTSTART:20271107T060000
END:STANDARD
END:VTIMEZONE
BEGIN:VEVENT
DTSTART;VALUE=DATE:20260425
DTEND;VALUE=DATE:20260430
DTSTAMP:20260424T162401
CREATED:20260422T023445Z
LAST-MODIFIED:20260422T023534Z
UID:30529-1777075200-1777507199@www.technologydesigner.com
SUMMARY:High Point Market: Spring 2026
DESCRIPTION:The High Point Market is the world’s largest home furnishings trade show\, held twice each year in High Point—once in the spring (April) and again in the fall (October). Spanning more than 11 million square feet of showroom space across dozens of buildings\, the event brings together thousands of exhibitors and tens of thousands of industry professionals from around the globe. \nEach market serves as a central hub for unveiling new furniture\, lighting\, textiles\, and home décor collections. It’s where manufacturers\, designers\, retailers\, and media come to spot trends\, build relationships\, and do business. Beyond the showrooms\, the event features a robust lineup of keynote talks\, panel discussions\, product launches\, and networking events\, offering insights into design\, retail strategy\, and the future of the home furnishings industry. \nWhile it is primarily a trade-only event\, High Point Market plays a major role in shaping consumer-facing design trends\, influencing everything from color palettes and materials to the way people experience and live in their homes.
URL:https://www.technologydesigner.com/event/high-point-market-spring-2026/
LOCATION:CO
CATEGORIES:Interior Design
ATTACH;FMTTYPE=image/jpeg:https://www.technologydesigner.com/wp-content/uploads/2026/04/High-point-market.jpg
END:VEVENT
BEGIN:VEVENT
DTSTART;VALUE=DATE:20260901
DTEND;VALUE=DATE:20260905
DTSTAMP:20260424T162401
CREATED:20260422T034722Z
LAST-MODIFIED:20260422T034722Z
UID:30559-1788220800-1788566399@www.technologydesigner.com
SUMMARY:CEDIA Expo 2026
DESCRIPTION:The Ultimate Event for Smart Home Professionals \nCEDIA Expo is where the smart home industry comes together to discover what’s next. It’s your place to explore the newest connected products\, meet with leading manufacturers\, collaborate with peers\, and gain hands-on education through both CEDIA-led sessions and exhibitor-driven product training. \nWhether you’re focused on expanding your expertise\, finding fresh revenue opportunities\, or staying ahead of emerging technologies\, this is the event that moves your business forward.
URL:https://www.technologydesigner.com/event/cedia-expo-2026/
LOCATION:Colorado Convention Center\, 700 14th St\, Denver\, CO\, 80202\, United States
CATEGORIES:Construction,Interior Design,Technology Design
ATTACH;FMTTYPE=image/webp:https://www.technologydesigner.com/wp-content/uploads/2026/04/Cedia-expo-2026.webp
END:VEVENT
BEGIN:VEVENT
DTSTART;VALUE=DATE:20260916
DTEND;VALUE=DATE:20260919
DTSTAMP:20260424T162401
CREATED:20260422T022333Z
LAST-MODIFIED:20260422T022621Z
UID:30524-1789516800-1789775999@www.technologydesigner.com
SUMMARY:ASID Gather: Catalyst 2026
DESCRIPTION:GATHER: Catalyst 2026\, ASID’s national leadership conference\, at the Dallas Market Center in Dallas\, Texas\, September 16–18\, 2026. GATHER: Catalyst is a three day event designed to bring ASID members\, volunteer leaders\, students\, educators\, and industry partners together for leadership development\, strategic engagement\, and community building. \nGATHER: Catalyst 2026 provides attendees with leadership insights\, professional growth opportunities\, and networking experiences to support advancing the interior design profession. The 2026 conference coincides with ARCHLight and Dallas Design Week\, giving participants expanded access to design programming and opportunities to connect with professionals and suppliers in the industry partners. ASID’s Texas chapter will lead local engagement and create meaningful experiences throughout the event.
URL:https://www.technologydesigner.com/event/asid-gather-catalyst-2026/
LOCATION:Dallas Market Center\, 2100 Stemmons Freeway\, Dallas\, TX\, United States
CATEGORIES:Interior Design
ATTACH;FMTTYPE=image/png:https://www.technologydesigner.com/wp-content/uploads/2026/04/Asid-gather-catalyst-2026.png
END:VEVENT
BEGIN:VEVENT
DTSTART;VALUE=DATE:20261023
DTEND;VALUE=DATE:20261028
DTSTAMP:20260424T162401
CREATED:20260422T023724Z
LAST-MODIFIED:20260422T023724Z
UID:30533-1792713600-1793145599@www.technologydesigner.com
SUMMARY:High Point Market: Fall 2026
DESCRIPTION:The High Point Market is the world’s largest home furnishings trade show\, held twice each year in High Point—once in the spring (April) and again in the fall (October). Spanning more than 11 million square feet of showroom space across dozens of buildings\, the event brings together thousands of exhibitors and tens of thousands of industry professionals from around the globe. \nEach market serves as a central hub for unveiling new furniture\, lighting\, textiles\, and home décor collections. It’s where manufacturers\, designers\, retailers\, and media come to spot trends\, build relationships\, and do business. Beyond the showrooms\, the event features a robust lineup of keynote talks\, panel discussions\, product launches\, and networking events\, offering insights into design\, retail strategy\, and the future of the home furnishings industry. \nWhile it is primarily a trade-only event\, High Point Market plays a major role in shaping consumer-facing design trends\, influencing everything from color palettes and materials to the way people experience and live in their homes.
URL:https://www.technologydesigner.com/event/high-point-market-fall-2026/
LOCATION:CO
CATEGORIES:Interior Design
ATTACH;FMTTYPE=image/jpeg:https://www.technologydesigner.com/wp-content/uploads/2026/04/High-point-market.jpg
END:VEVENT
END:VCALENDAR