BEGIN:VCALENDAR
VERSION:2.0
PRODID:-//Technology Designer - ECPv6.15.20//NONSGML v1.0//EN
CALSCALE:GREGORIAN
METHOD:PUBLISH
X-ORIGINAL-URL:https://www.technologydesigner.com
X-WR-CALDESC:Events for Technology Designer
REFRESH-INTERVAL;VALUE=DURATION:PT1H
X-Robots-Tag:noindex
X-PUBLISHED-TTL:PT1H
BEGIN:VTIMEZONE
TZID:America/New_York
BEGIN:DAYLIGHT
TZOFFSETFROM:-0500
TZOFFSETTO:-0400
TZNAME:EDT
DTSTART:20250309T070000
END:DAYLIGHT
BEGIN:STANDARD
TZOFFSETFROM:-0400
TZOFFSETTO:-0500
TZNAME:EST
DTSTART:20251102T060000
END:STANDARD
BEGIN:DAYLIGHT
TZOFFSETFROM:-0500
TZOFFSETTO:-0400
TZNAME:EDT
DTSTART:20260308T070000
END:DAYLIGHT
BEGIN:STANDARD
TZOFFSETFROM:-0400
TZOFFSETTO:-0500
TZNAME:EST
DTSTART:20261101T060000
END:STANDARD
BEGIN:DAYLIGHT
TZOFFSETFROM:-0500
TZOFFSETTO:-0400
TZNAME:EDT
DTSTART:20270314T070000
END:DAYLIGHT
BEGIN:STANDARD
TZOFFSETFROM:-0400
TZOFFSETTO:-0500
TZNAME:EST
DTSTART:20271107T060000
END:STANDARD
END:VTIMEZONE
BEGIN:VEVENT
DTSTART;VALUE=DATE:20260614
DTEND;VALUE=DATE:20260617
DTSTAMP:20260424T152457
CREATED:20260422T033137Z
LAST-MODIFIED:20260422T033410Z
UID:30555-1781395200-1781654399@www.technologydesigner.com
SUMMARY:Groundbreaking Women in Construction
DESCRIPTION:The Groundbreaking Women in Construction Conference\, hosted by Engineering News-Record\, is a leading event focused on advancing women in the architecture\, engineering\, and construction industry. Through keynotes\, panels\, and workshops\, it offers practical insights on leadership\, career growth\, and industry challenges — while creating opportunities to connect\, learn\, and lead.
URL:https://www.technologydesigner.com/event/groundbreaking-women-in-construction/
LOCATION:Town and Country Resort\, 500 Hotel Cir N\, San Diego\, CA\, 92108\, United States
CATEGORIES:Construction
ATTACH;FMTTYPE=image/jpeg:https://www.technologydesigner.com/wp-content/uploads/2026/04/Groundbreaking-women-in-construction.jpg
END:VEVENT
BEGIN:VEVENT
DTSTART;VALUE=DATE:20260901
DTEND;VALUE=DATE:20260905
DTSTAMP:20260424T152457
CREATED:20260422T034722Z
LAST-MODIFIED:20260422T034722Z
UID:30559-1788220800-1788566399@www.technologydesigner.com
SUMMARY:CEDIA Expo 2026
DESCRIPTION:The Ultimate Event for Smart Home Professionals \nCEDIA Expo is where the smart home industry comes together to discover what’s next. It’s your place to explore the newest connected products\, meet with leading manufacturers\, collaborate with peers\, and gain hands-on education through both CEDIA-led sessions and exhibitor-driven product training. \nWhether you’re focused on expanding your expertise\, finding fresh revenue opportunities\, or staying ahead of emerging technologies\, this is the event that moves your business forward.
URL:https://www.technologydesigner.com/event/cedia-expo-2026/
LOCATION:Colorado Convention Center\, 700 14th St\, Denver\, CO\, 80202\, United States
CATEGORIES:Construction,Interior Design,Technology Design
ATTACH;FMTTYPE=image/webp:https://www.technologydesigner.com/wp-content/uploads/2026/04/Cedia-expo-2026.webp
END:VEVENT
BEGIN:VEVENT
DTSTART;VALUE=DATE:20261020
DTEND;VALUE=DATE:20261024
DTSTAMP:20260424T152457
CREATED:20260422T024314Z
LAST-MODIFIED:20260422T024314Z
UID:30535-1792454400-1792799999@www.technologydesigner.com
SUMMARY:Greenbuild International Conference + Expo
DESCRIPTION:Greenbuild hosts the largest annual event for green building professionals worldwide where attendees learn and source solutions to improve resilience\, sustainability\, and quality of life in our buildings\, cities\, and communities. \nGreenbuild will return to the east coast\, taking place October 20-23\, 2026\, at the Javits Center in New York City.
URL:https://www.technologydesigner.com/event/greenbuild-international-conference-expo/
LOCATION:CO
CATEGORIES:Construction
ATTACH;FMTTYPE=image/png:https://www.technologydesigner.com/wp-content/uploads/2026/04/Greenbuild-international-conference-expo-2026.png
END:VEVENT
BEGIN:VEVENT
DTSTART;VALUE=DATE:20261123
DTEND;VALUE=DATE:20261127
DTSTAMP:20260424T152457
CREATED:20260422T025428Z
LAST-MODIFIED:20260422T025503Z
UID:30539-1795392000-1795737599@www.technologydesigner.com
SUMMARY:Big 5 Global
DESCRIPTION:You don’t need to knock on 85\,000 doors.\nAt Big 5 Global\, clients walk through yours. \nDecision-makers from 169 countries come to Big 5 Global every November to find the right suppliers\, products and partners. In 2025 they spent $3.34bn doing exactly that. The only question is: how much of that spend will you bring back to your business?
URL:https://www.technologydesigner.com/event/big-5-global/
LOCATION:Dubai World Trade Centre\, Sheikh Zayed Rd – Trade Center Second\, Dubai\, United Arab Emirates
CATEGORIES:Construction
ATTACH;FMTTYPE=image/jpeg:https://www.technologydesigner.com/wp-content/uploads/2026/04/Big-5-global.jpg
END:VEVENT
END:VCALENDAR