BEGIN:VCALENDAR
VERSION:2.0
PRODID:-//Technology Designer - ECPv6.15.20//NONSGML v1.0//EN
CALSCALE:GREGORIAN
METHOD:PUBLISH
X-WR-CALNAME:Technology Designer
X-ORIGINAL-URL:https://www.technologydesigner.com
X-WR-CALDESC:Events for Technology Designer
REFRESH-INTERVAL;VALUE=DURATION:PT1H
X-Robots-Tag:noindex
X-PUBLISHED-TTL:PT1H
BEGIN:VTIMEZONE
TZID:America/New_York
BEGIN:DAYLIGHT
TZOFFSETFROM:-0500
TZOFFSETTO:-0400
TZNAME:EDT
DTSTART:20250309T070000
END:DAYLIGHT
BEGIN:STANDARD
TZOFFSETFROM:-0400
TZOFFSETTO:-0500
TZNAME:EST
DTSTART:20251102T060000
END:STANDARD
BEGIN:DAYLIGHT
TZOFFSETFROM:-0500
TZOFFSETTO:-0400
TZNAME:EDT
DTSTART:20260308T070000
END:DAYLIGHT
BEGIN:STANDARD
TZOFFSETFROM:-0400
TZOFFSETTO:-0500
TZNAME:EST
DTSTART:20261101T060000
END:STANDARD
BEGIN:DAYLIGHT
TZOFFSETFROM:-0500
TZOFFSETTO:-0400
TZNAME:EDT
DTSTART:20270314T070000
END:DAYLIGHT
BEGIN:STANDARD
TZOFFSETFROM:-0400
TZOFFSETTO:-0500
TZNAME:EST
DTSTART:20271107T060000
END:STANDARD
END:VTIMEZONE
BEGIN:VEVENT
DTSTART;VALUE=DATE:20261123
DTEND;VALUE=DATE:20261127
DTSTAMP:20260425T001830
CREATED:20260422T025428Z
LAST-MODIFIED:20260422T025503Z
UID:30539-1795392000-1795737599@www.technologydesigner.com
SUMMARY:Big 5 Global
DESCRIPTION:You don’t need to knock on 85\,000 doors.\nAt Big 5 Global\, clients walk through yours. \nDecision-makers from 169 countries come to Big 5 Global every November to find the right suppliers\, products and partners. In 2025 they spent $3.34bn doing exactly that. The only question is: how much of that spend will you bring back to your business?
URL:https://www.technologydesigner.com/event/big-5-global/
LOCATION:Dubai World Trade Centre\, Sheikh Zayed Rd – Trade Center Second\, Dubai\, United Arab Emirates
CATEGORIES:Construction
ATTACH;FMTTYPE=image/jpeg:https://www.technologydesigner.com/wp-content/uploads/2026/04/Big-5-global.jpg
END:VEVENT
END:VCALENDAR