BEGIN:VCALENDAR
VERSION:2.0
PRODID:-//Technology Designer - ECPv6.15.20//NONSGML v1.0//EN
CALSCALE:GREGORIAN
METHOD:PUBLISH
X-ORIGINAL-URL:https://www.technologydesigner.com
X-WR-CALDESC:Events for Technology Designer
REFRESH-INTERVAL;VALUE=DURATION:PT1H
X-Robots-Tag:noindex
X-PUBLISHED-TTL:PT1H
BEGIN:VTIMEZONE
TZID:America/New_York
BEGIN:DAYLIGHT
TZOFFSETFROM:-0500
TZOFFSETTO:-0400
TZNAME:EDT
DTSTART:20250309T070000
END:DAYLIGHT
BEGIN:STANDARD
TZOFFSETFROM:-0400
TZOFFSETTO:-0500
TZNAME:EST
DTSTART:20251102T060000
END:STANDARD
BEGIN:DAYLIGHT
TZOFFSETFROM:-0500
TZOFFSETTO:-0400
TZNAME:EDT
DTSTART:20260308T070000
END:DAYLIGHT
BEGIN:STANDARD
TZOFFSETFROM:-0400
TZOFFSETTO:-0500
TZNAME:EST
DTSTART:20261101T060000
END:STANDARD
BEGIN:DAYLIGHT
TZOFFSETFROM:-0500
TZOFFSETTO:-0400
TZNAME:EDT
DTSTART:20270314T070000
END:DAYLIGHT
BEGIN:STANDARD
TZOFFSETFROM:-0400
TZOFFSETTO:-0500
TZNAME:EST
DTSTART:20271107T060000
END:STANDARD
END:VTIMEZONE
BEGIN:VEVENT
DTSTART;VALUE=DATE:20260610
DTEND;VALUE=DATE:20260614
DTSTAMP:20260424T190553
CREATED:20260422T030837Z
LAST-MODIFIED:20260422T030915Z
UID:30545-1781049600-1781395199@www.technologydesigner.com
SUMMARY:AIA26 Conference on Architecture & Design
DESCRIPTION:AIA26 is a four-day conference that delivers what architects need now: Fresh insights\, powerful connections\, and real solutions for a changing industry. \nJoin us June 10–13 to understand how our industry is evolving and take home the solutions\, networking connections\, and inspiration you and your firm need to be successful.
URL:https://www.technologydesigner.com/event/aia26-conference-on-architecture-design/
LOCATION:San Diego Convention Center (CDCC)\, 111 Harbor Drive\, San Diego\, CA\, 92101\, United States
CATEGORIES:Architecture
ATTACH;FMTTYPE=image/jpeg:https://www.technologydesigner.com/wp-content/uploads/2026/04/Aia26_web_meta-7_1200x628.jpg
END:VEVENT
END:VCALENDAR